BEGIN:VCALENDAR
VERSION:2.0
PRODID:-//Squarespace Inc/Squarespace 6//v6//EN
BEGIN:VEVENT
UID:5cec7af9b208fc0bb16a51e7@squarespace.com
DTSTAMP:20190528T000531Z
DTSTART:20190606T231500Z
DTEND:20190607T001500Z
SUMMARY:BOT voting closed 
END:VEVENT
END:VCALENDAR
