BEGIN:VCALENDAR
VERSION:2.0
PRODID:-//Squarespace Inc/Squarespace 6//v6//EN
BEGIN:VEVENT
UID:5cec7a26ec212dc60a59d8a4@squarespace.com
DTSTAMP:20190528T000350Z
DTSTART:20190602T111500Z
DTEND:20190602T231500Z
SUMMARY:Queen's Birthday Weekend 
END:VEVENT
END:VCALENDAR
