BEGIN:VCALENDAR
VERSION:2.0
PRODID:-//Squarespace Inc/Squarespace 6//v6//EN
BEGIN:VEVENT
UID:5cec7df0971a18139a5180af@squarespace.com
DTSTAMP:20190528T001741Z
DTSTART:20190612T231500Z
DTEND:20190613T001500Z
SUMMARY:BOT voting counted - New board is announced 
END:VEVENT
END:VCALENDAR
