BEGIN:VCALENDAR
VERSION:2.0
PRODID:-//Squarespace Inc/Squarespace 6//v6//EN
BEGIN:VEVENT
UID:5cec788e6e9a7f68cdaec0ff@squarespace.com
DTSTAMP:20190527T235725Z
DTSTART:20190528T201500Z
DTEND:20190529T021500Z
SUMMARY:Teacher Strike Day 
END:VEVENT
END:VCALENDAR
