BEGIN:VCALENDAR
VERSION:2.0
PRODID:-//Squarespace Inc/Squarespace 6//v6//EN
BEGIN:VEVENT
UID:5be3942788251b72b54653ac@squarespace.com
DTSTAMP:20181108T014703Z
DTSTART:20181206T191500Z
DTEND:20181206T211500Z
SUMMARY:Waikouaiti Library Visit / Learn and Share
END:VEVENT
END:VCALENDAR
