BEGIN:VCALENDAR
VERSION:2.0
PRODID:-//Squarespace Inc/Squarespace 6//v6//EN
BEGIN:VEVENT
UID:5badae90c830256b79f7dccb@squarespace.com
DTSTAMP:20180928T043206Z
DTSTART:20181212T191500Z
DTEND:20181213T011500Z
SUMMARY:Last Day of Term Four
END:VEVENT
END:VCALENDAR
