BEGIN:VCALENDAR
VERSION:2.0
PRODID:-//Squarespace Inc/Squarespace 6//v6//EN
BEGIN:VEVENT
UID:5be8b6b2cd8366853da7083e@squarespace.com
DTSTAMP:20181111T231530Z
DTSTART:20181130T014500Z
DTEND:20181130T044500Z
SUMMARY:School Community Pizza NIght
END:VEVENT
END:VCALENDAR
