BEGIN:VCALENDAR
VERSION:2.0
PRODID:-//Squarespace Inc/Squarespace 6//v6//EN
BEGIN:VEVENT
UID:5be39682cd8366d8121f2d03@squarespace.com
DTSTAMP:20181108T015307Z
DTSTART:20181127T194500Z
DTEND:20181127T205500Z
SUMMARY:Librarian Visit
END:VEVENT
END:VCALENDAR
