BEGIN:VCALENDAR
VERSION:2.0
PRODID:-//Squarespace Inc/Squarespace 6//v6//EN
BEGIN:VEVENT
UID:5be3973d4ae237c7ad7622e1@squarespace.com
DTSTAMP:20181108T020023Z
DTSTART:20181121T194500Z
DTEND:20181121T224500Z
SUMMARY:Kati Huirapa ki Puketeraki Marae Visit
END:VEVENT
END:VCALENDAR
