BEGIN:VCALENDAR
VERSION:2.0
PRODID:-//Squarespace Inc/Squarespace 6//v6//EN
BEGIN:VEVENT
UID:5bdf8413f950b7feaf52a908@squarespace.com
DTSTAMP:20181126T010841Z
DTSTART:20181126T191500Z
DTEND:20181127T004500Z
SUMMARY:Junior Athletics
END:VEVENT
END:VCALENDAR
