BEGIN:VCALENDAR
VERSION:2.0
PRODID:-//Squarespace Inc/Squarespace 6//v6//EN
BEGIN:VEVENT
UID:5bdf84ec575d1f0d1933ba13@squarespace.com
DTSTAMP:20181109T005224Z
DTSTART:20181114T191500Z
DTEND:20181115T011500Z
SUMMARY:NZEI Industrial Action
END:VEVENT
END:VCALENDAR
