BEGIN:VCALENDAR
VERSION:2.0
PRODID:-//Squarespace Inc/Squarespace 6//v6//EN
BEGIN:VEVENT
UID:5be3931603ce64f75c5111fc@squarespace.com
DTSTAMP:20181108T014021Z
DTSTART:20181113T195500Z
DTEND:20181113T205500Z
SUMMARY:'Get Firewise' visit to school
END:VEVENT
END:VCALENDAR
