BEGIN:VCALENDAR
VERSION:2.0
PRODID:-//Squarespace Inc/Squarespace 6//v6//EN
BEGIN:VEVENT
UID:5bdf84978985834c932888c3@squarespace.com
DTSTAMP:20181104T234629Z
DTSTART:20181111T191500Z
DTEND:20181111T205500Z
SUMMARY:School Photos
END:VEVENT
END:VCALENDAR
