BEGIN:VCALENDAR
VERSION:2.0
PRODID:-//Squarespace Inc/Squarespace 6//v6//EN
BEGIN:VEVENT
UID:5badaf2c1905f46e2a74cfdd@squarespace.com
DTSTAMP:20180928T043540Z
DTSTART:20181021T111500Z
DTEND:20181022T101000Z
SUMMARY:Labour Day Public Holiday
END:VEVENT
END:VCALENDAR
