BEGIN:VCALENDAR
VERSION:2.0
PRODID:-//Squarespace Inc/Squarespace 6//v6//EN
BEGIN:VEVENT
UID:5badae3c104c7b7a4c345030@squarespace.com
DTSTAMP:20180928T043634Z
DTSTART:20181014T191500Z
DTEND:20181015T011500Z
SUMMARY:Term Four Begins
END:VEVENT
END:VCALENDAR
